BEGIN:VCALENDAR
VERSION:2.0
PRODID:-//Landesverband Amateurtheater Baden-Württemberg e.V. - ECPv5.16.4//NONSGML v1.0//EN
CALSCALE:GREGORIAN
METHOD:PUBLISH
X-WR-CALNAME:Landesverband Amateurtheater Baden-Württemberg e.V.
X-ORIGINAL-URL:https://amateurtheater-bw.de
X-WR-CALDESC:Events for Landesverband Amateurtheater Baden-Württemberg e.V.
BEGIN:VTIMEZONE
TZID:Europe/Berlin
BEGIN:DAYLIGHT
TZOFFSETFROM:+0100
TZOFFSETTO:+0200
TZNAME:CEST
DTSTART:20220327T010000
END:DAYLIGHT
BEGIN:STANDARD
TZOFFSETFROM:+0200
TZOFFSETTO:+0100
TZNAME:CET
DTSTART:20221030T010000
END:STANDARD
END:VTIMEZONE
BEGIN:VEVENT
DTSTART;TZID=Europe/Berlin:20220122T100000
DTEND;TZID=Europe/Berlin:20220123T170000
DTSTAMP:20260423T195952
CREATED:20210713T173609Z
LAST-MODIFIED:20220112T112803Z
UID:3267-1642845600-1642957200@amateurtheater-bw.de
SUMMARY:Regiehandwerk auf und neben der Bühne
DESCRIPTION:Ein Regie-Input für Fortgeschrittene und Anfänger  \nWas wenn man als Spielleiter/Regisseur an seine Grenzen stößt? Wenn man einen Input braucht? Egal ob bei Eigenentwicklungen oder der Arbeit mit Textvorlagen\, in jeder Produktion müssen Entscheidungen getroffen werden. Welches handwerkliche Wissen sollte diesen Entscheidungen zugrunde liegen? Wo ist die Grenze zwischen Handwerk und Intuition? Wie wirken diese Entscheidungen auf das Publikum? \nIn einem Theaterlaboratorium untersuchen wir verschiedene Methoden und Mittel\, die das Theater zu bieten hat. Ein „Hand in Hand“ von verkopften Theorien und Praxiserfahrung machen diesen Kurs zu einer spannenden Werkstatt für angehende und fortgeschrittene Spielleiter und Regisseure.
URL:https://amateurtheater-bw.de/kurs/regiehandwerk-auf-und-neben-der-buehne/
LOCATION:Perfekt Futur\, Alter Schlachthof 39 A1\, Karlsruhe\, 76131
END:VEVENT
END:VCALENDAR