BEGIN:VCALENDAR
VERSION:2.0
PRODID:-//Landesverband Amateurtheater Baden-Württemberg e.V. - ECPv5.16.4//NONSGML v1.0//EN
CALSCALE:GREGORIAN
METHOD:PUBLISH
X-WR-CALNAME:Landesverband Amateurtheater Baden-Württemberg e.V.
X-ORIGINAL-URL:https://amateurtheater-bw.de
X-WR-CALDESC:Events for Landesverband Amateurtheater Baden-Württemberg e.V.
BEGIN:VTIMEZONE
TZID:Europe/Berlin
BEGIN:DAYLIGHT
TZOFFSETFROM:+0100
TZOFFSETTO:+0200
TZNAME:CEST
DTSTART:20260329T010000
END:DAYLIGHT
BEGIN:STANDARD
TZOFFSETFROM:+0200
TZOFFSETTO:+0100
TZNAME:CET
DTSTART:20261025T010000
END:STANDARD
END:VTIMEZONE
BEGIN:VEVENT
DTSTART;TZID=Europe/Berlin:20260228T100000
DTEND;TZID=Europe/Berlin:20260301T170000
DTSTAMP:20260419T232317
CREATED:20220602T080946Z
LAST-MODIFIED:20251123T131641Z
UID:9630-1772272800-1772384400@amateurtheater-bw.de
SUMMARY:Da hilft nur noch die Pointe!
DESCRIPTION:Kabarett schreiben und präsentieren \nManches hält man im Kopf nicht aus! In Politik\, Gesellschaft und der eigenen Familie. Und manches geht gerade noch so\, mit Witz und zur Not mit schwarzem Humor. \nIn diesem Seminar lernen wir\, mit welchen Mitteln wir Pointen schreiben und was man beim Kabarettspielen beachten kann. Wir entwickeln eigene Nummern (solo und in Kleingruppen)\, präsentieren und geben Feedback. Und vielleicht entsteht daraus ja eine feste Kabarettgruppe! \nFabian D. Schwarz steht seit über 15 Jahren auf der Kabarettbühne. In seinem Programm nimmt der studierte Theologe Glaube\, Kirche und Erziehung aufs Korn. Darüber hinaus ist er seit einigen Jahren als freier Redner unterwegs. Mehr über die Arbeit von Fabian D. Schwarz \nFoto: Ruhr Futur / Sascha Kreklau
URL:https://amateurtheater-bw.de/kurs/kabarett-0226a/
LOCATION:Geschäftsstelle Landesverband Amateurtheater Baden-Württemberg e.V\, Postwiesenstraße 5A\, Stuttgart\, 70327\, Deutschland
CATEGORIES:Schauspiel
ATTACH;FMTTYPE=image/png:https://amateurtheater-bw.de/wp-content/uploads/2022/06/Da-hilft-nur-noch-die-Pointe.png
END:VEVENT
END:VCALENDAR